BEGIN:VCALENDAR
VERSION:2.0
PRODID:-//CJCB - ECPv4.6.26//NONSGML v1.0//EN
CALSCALE:GREGORIAN
METHOD:PUBLISH
X-WR-CALNAME:CJCB
X-ORIGINAL-URL:https://cjcbradio.com
X-WR-CALDESC:Events for CJCB
BEGIN:VEVENT
DTSTART;TZID=America/Halifax:20250807T100000
DTEND;TZID=America/Halifax:20250807T113000
DTSTAMP:20260425T174824
CREATED:20250623T142207Z
LAST-MODIFIED:20250623T142207Z
UID:10288-1754560800-1754566200@cjcbradio.com
SUMMARY:Village Art (For Adults)
DESCRIPTION:Glace Bay Library \nThurs Aug 7     10-11:30am \nDid you know you can turn drift wood and rocks into art? We will use them to make painted village art. Registration Required. Phone 902 849 8657 or email glacebay@cbrl.ca to register \n
URL:https://cjcbradio.com/event/village-art-for-adults/
END:VEVENT
END:VCALENDAR