BEGIN:VCALENDAR
VERSION:2.0
PRODID:-//CJCB - ECPv4.6.26//NONSGML v1.0//EN
CALSCALE:GREGORIAN
METHOD:PUBLISH
X-WR-CALNAME:CJCB
X-ORIGINAL-URL:https://cjcbradio.com
X-WR-CALDESC:Events for CJCB
BEGIN:VEVENT
DTSTART;TZID=America/Halifax:20250423T173000
DTEND;TZID=America/Halifax:20250423T193000
DTSTAMP:20260424T091926
CREATED:20250403T172732Z
LAST-MODIFIED:20250403T172732Z
UID:10168-1745429400-1745436600@cjcbradio.com
SUMMARY:Watercolour with Beverly
DESCRIPTION:Glace Bay Library \nWed April 23 \n5:30 – 7:30 \nJoin Beverly as she leads a class in watercolour painting. \n
URL:https://cjcbradio.com/event/watercolour-with-beverly/
END:VEVENT
END:VCALENDAR