BEGIN:VCALENDAR
VERSION:2.0
PRODID:-//CJCB - ECPv4.6.26//NONSGML v1.0//EN
CALSCALE:GREGORIAN
METHOD:PUBLISH
X-WR-CALNAME:CJCB
X-ORIGINAL-URL:https://cjcbradio.com
X-WR-CALDESC:Events for CJCB
BEGIN:VEVENT
DTSTART;TZID=America/Halifax:20230131T100000
DTEND;TZID=America/Halifax:20230131T160000
DTSTAMP:20260422T140150
CREATED:20221230T165947Z
LAST-MODIFIED:20221230T165947Z
UID:8795-1675159200-1675180800@cjcbradio.com
SUMMARY:Winter Colouring
DESCRIPTION:Drop in to the Glace Bay Library on January 31st from 10am to 4pm for some Winter Colouring fun. \n
URL:https://cjcbradio.com/event/winter-colouring/
END:VEVENT
END:VCALENDAR