BEGIN:VCALENDAR
VERSION:2.0
PRODID:-//CJCB - ECPv4.6.26//NONSGML v1.0//EN
CALSCALE:GREGORIAN
METHOD:PUBLISH
X-WR-CALNAME:CJCB
X-ORIGINAL-URL:https://cjcbradio.com
X-WR-CALDESC:Events for CJCB
BEGIN:VEVENT
DTSTART;TZID=America/Halifax:20230228T133000
DTEND;TZID=America/Halifax:20230228T143000
DTSTAMP:20260422T085519
CREATED:20230217T190025Z
LAST-MODIFIED:20230217T190025Z
UID:8907-1677591000-1677594600@cjcbradio.com
SUMMARY:Yoga @ the Library
DESCRIPTION:Tues Feb 28\n1:30pm – 2:30pm\nGlace Bay Library\nCome experience Psychical Literacy with yoga. Matts and Blocks provided. Space is limited and Registration required. Please call 902-849-8657 to register. \n
URL:https://cjcbradio.com/event/yoga-the-library-3/
END:VEVENT
END:VCALENDAR