BEGIN:VCALENDAR
VERSION:2.0
PRODID:-//CJCB - ECPv4.6.26//NONSGML v1.0//EN
CALSCALE:GREGORIAN
METHOD:PUBLISH
X-WR-CALNAME:CJCB
X-ORIGINAL-URL:https://cjcbradio.com
X-WR-CALDESC:Events for CJCB
BEGIN:VEVENT
DTSTART;TZID=UTC+0:20170504T170000
DTEND;TZID=UTC+0:20170513T170000
DTSTAMP:20260426T013227
CREATED:20170420T165522Z
LAST-MODIFIED:20170420T165522Z
UID:549-1493917200-1494694800@cjcbradio.com
SUMMARY:Library Used Book Sale
DESCRIPTION:The Cape Breton Regional Library will be holding a Used Book Sale from Thursday\, May 4 at 5:00 P.M.\, to Saturday\, May 13 at 5:00 PM at the McConnell Library. The sale will run during regular library hours. The Library will be selling thousands of good\, used books to make room for new materials. The sale will include adult and children’s books in both paperback and hardcover at very good prices. This is a fund raiser for the Library and all proceeds of the book sale will be used to support the programs and services of the Cape Breton Regional Library. For more information on the sale\, phone 562-3161 or 562-3279 \n
URL:https://cjcbradio.com/event/library-used-book-sale/
END:VEVENT
BEGIN:VEVENT
DTSTART;TZID=UTC+0:20170511T140000
DTEND;TZID=UTC+0:20170511T160000
DTSTAMP:20260426T013227
CREATED:20170424T165048Z
LAST-MODIFIED:20170424T165048Z
UID:567-1494511200-1494518400@cjcbradio.com
SUMMARY:CB Chapter Ostomy Society
DESCRIPTION:The Cape Breton Chapter of the Ostomy Canada Society will meet on Thursday May 11th\,2017 from 2pm – 4pm at the CB Regional Hospital\, Sydney\, Room 3612. This is a support group for ostomates and their support/caregivers. New ostomates are welcome. \nA light lunch will be served. \nFor more information contact : Verna Petrie – 862-8540 \n
URL:https://cjcbradio.com/event/cb-chapter-ostomy-society/
END:VEVENT
BEGIN:VEVENT
DTSTART;TZID=UTC+0:20170511T183000
DTEND;TZID=UTC+0:20170511T200000
DTSTAMP:20260426T013227
CREATED:20170315T151825Z
LAST-MODIFIED:20170315T151825Z
UID:350-1494527400-1494532800@cjcbradio.com
SUMMARY:GriefShare Support Group
DESCRIPTION:Griefshare\, a special help seminar and support group for people experiencing grief and loss\, will be held on Thursday evenings at 6:30 PM for 13 weeks in St. Mary’s Anglican Church\, 8 Marconi St\, Glace Bay beginning March 30th. \nGriefShare features experts on grief and recovery topics.  Seminar sessions include: “The Journey of Grief” “The Effects of Grief” “When Your Spouse Dies\,” “Why?” and “Stuck in Grief” \nFor more information\, call 849-4747 \n
URL:https://cjcbradio.com/event/griefshare-support-group-7/
END:VEVENT
BEGIN:VEVENT
DTSTART;TZID=UTC+0:20170511T190000
DTEND;TZID=UTC+0:20170511T210000
DTSTAMP:20260426T013227
CREATED:20170508T172218Z
LAST-MODIFIED:20170508T172218Z
UID:635-1494529200-1494536400@cjcbradio.com
SUMMARY:Mother's Day Paint Night
DESCRIPTION:MOTHER’S DAY PAINT NIGHT WITH NANCY CHAISSON \nSYDNEY MINES LEGION \nMAY 11TH \n7:00 – 9:00 PM \n$40.00 \nTO RESERVE YOUR SEAT CALL NANCY AT 902-322-0731 \nCommunity C.A.R.E.S Fundraiser \n
URL:https://cjcbradio.com/event/mothers-day-paint-night/
END:VEVENT
END:VCALENDAR