BEGIN:VCALENDAR
VERSION:2.0
PRODID:-//CJCB - ECPv4.6.26//NONSGML v1.0//EN
CALSCALE:GREGORIAN
METHOD:PUBLISH
X-WR-CALNAME:CJCB
X-ORIGINAL-URL:https://cjcbradio.com
X-WR-CALDESC:Events for CJCB
BEGIN:VEVENT
DTSTART;TZID=UTC+0:20170521T100000
DTEND;TZID=UTC+0:20170521T150000
DTSTAMP:20260425T111655
CREATED:20170510T193307Z
LAST-MODIFIED:20170510T193307Z
UID:648-1495360800-1495378800@cjcbradio.com
SUMMARY:8th Annual New Harris Run Walk or Crawl
DESCRIPTION:5 – 10 K New Harris Road\, Patient Care Walk or Run. \n10 AM start at Summer Snow\, Yellow A-Frame 7 KM up the New Harris Road\, at the base of Kelly’s Mountain.  The run is free but donations will be accepted for the Patient Care Fund at the Cape Breton Cancer Centre. Refreshments and a snack will be served afterwards at Summer Snow free for all. \nRunning or Walking is your choice.  Come and enjoy an old winding country road that has beautiful tree covered canopies that stretch along your journey and opens to spectacular views of the Bras d’Or Lakes.  You can take your time or go fast\, do it all or only a section and we will pick you up in golf carts.  After the event\, meet us for a snack and refreshments. \nFor more information\, visit our website www.newharrisrun.ca or feel free to contact Deedee or David at daiwao@gmail.com or call 902-539-3570 or Ronelda at 902-562-7934. \n
URL:https://cjcbradio.com/event/8th-annual-new-harris-run-walk-or-crawl/
END:VEVENT
BEGIN:VEVENT
DTSTART;TZID=UTC+0:20170521T190000
DTEND;TZID=UTC+0:20170521T220000
DTSTAMP:20260425T111655
CREATED:20170518T202207Z
LAST-MODIFIED:20170518T202207Z
UID:694-1495393200-1495404000@cjcbradio.com
SUMMARY:Victory Park Benefit Concert
DESCRIPTION:The Victory Park Society is hosting a fundraising concert on Sunday\, May 21\, 7pm at St. Joseph’s Church in North Sydney. Doors open at 6pm. There will be a ton of talented performers\, including Lynda Maxwell\, Emily Dingwall and more. Admission is a donation at the door \n
URL:https://cjcbradio.com/event/victory-park-benefit-concert/
END:VEVENT
END:VCALENDAR