BEGIN:VCALENDAR
VERSION:2.0
PRODID:-//CJCB - ECPv4.6.26//NONSGML v1.0//EN
CALSCALE:GREGORIAN
METHOD:PUBLISH
X-WR-CALNAME:CJCB
X-ORIGINAL-URL:https://cjcbradio.com
X-WR-CALDESC:Events for CJCB
BEGIN:VEVENT
DTSTART;TZID=UTC+0:20170527T090000
DTEND;TZID=UTC+0:20170527T120000
DTSTAMP:20260425T031005
CREATED:20170516T204441Z
LAST-MODIFIED:20170516T204441Z
UID:674-1495875600-1495886400@cjcbradio.com
SUMMARY:CB Regional Library Garage Sale
DESCRIPTION:The Cape Breton Regional Library will be holding a Garage Sale on Saturday\, May 27 at the Library’s garage on Charlotte Street in Sydney. The sale will run from 9:00 AM to noon\, rain or shine. This is the time of year that people are spring cleaning so if you have items that you would like to donate to the Garage Sale\, they would be greatly appreciated. Although you may not want them\, they could be someone else’s treasure. You can drop items at the McConnell Library the week before the sale. All proceeds raised go toward the programs and services of the Library \n
URL:https://cjcbradio.com/event/cb-regional-library-garage-sale/
END:VEVENT
BEGIN:VEVENT
DTSTART;TZID=UTC+0:20170527T100000
DTEND;TZID=UTC+0:20170527T160000
DTSTAMP:20260425T031005
CREATED:20170508T172325Z
LAST-MODIFIED:20170508T172325Z
UID:637-1495879200-1495900800@cjcbradio.com
SUMMARY:Jumpstart Day
DESCRIPTION:JUMPSTART   DAY    MAY 27th 2017 \n10am -4pm \nCanadian Tire – 49 Spar Rd\, Sydney \nGames\, BBQ\, Bake Sale\, Silent Auction\, Pitching Tent\, Face Painting \nTrigger Happy Laser Tag\, Popcorn\, Cotton Candy\, Live Entertainment performed by Vanna White\, DJ Majestic and Final Cut and even more activities. \n100% Money raised stays local to help kids aged 4-18 participate in Sports and recreational activities. \nIn 2016 Jumpstart Charities helped 335 local kids get in the game and distributed over $73681.00 in our local chapter. \nvisit us on Facebook  :  Canadian Tire – Sydney \n  \n
URL:https://cjcbradio.com/event/jumpstart-day/
END:VEVENT
BEGIN:VEVENT
DTSTART;TZID=UTC+0:20170527T100000
DTEND;TZID=UTC+0:20170527T140000
DTSTAMP:20260425T031005
CREATED:20170523T213946Z
LAST-MODIFIED:20170523T213946Z
UID:701-1495879200-1495893600@cjcbradio.com
SUMMARY:Annual Shred Day and Free BBQ
DESCRIPTION:Date: Saturday\, May 27 • Time: 10am and 2pm • Where: 340 Prince Street\, Sydney • What: Annual Shred Day & Free BBQ • Description: Scotia Recycling Limited will be at Cape Breton Credit Union Prince Street Branch to professionally shred any personal or confidential documents you would like destroyed. There will also be an officer from the Cape Breton Regional Police Services available for anyone interested in learning how to protect themselves from identity fraud. This event is for the whole community\, so everyone is welcome! • For more information please call Cape Breton Credit Union at 902-562-5559 or visit www.cbcu.ca \n
URL:https://cjcbradio.com/event/annual-shred-day-and-free-bbq/
END:VEVENT
BEGIN:VEVENT
DTSTART;TZID=UTC+0:20170527T103000
DTEND;TZID=UTC+0:20170527T150000
DTSTAMP:20260425T031005
CREATED:20170504T202740Z
LAST-MODIFIED:20170504T202740Z
UID:623-1495881000-1495897200@cjcbradio.com
SUMMARY:Motorcycle Awareness Ride
DESCRIPTION:May 27\, 2017 in memory of Fallen Bikers.  Sponsored by Cape Breton Free-Wheelin Motorcycle Association.  Registration 1030 AM – 1145 AM at Sydney Mines Community Centre.  Depart 12 PM from Sydney Mines Community Centre to Walmart\, Sydney River\, Depart 1 PM Walmart Sydney River to Tim Horton’s New Waterford\, Depart Tim Horton’s to Reserve Mines Pensioners Club.  Blessing of the Bikes. \nRain Date:  May 28th\, 2017.  All Bikers Welcome! \nLet’s Get a Head Start on Safety.  Look Twice\, Save a Life! \n
URL:https://cjcbradio.com/event/motorcycle-awareness-ride/
END:VEVENT
BEGIN:VEVENT
DTSTART;TZID=UTC+0:20170527T113000
DTEND;TZID=UTC+0:20170527T133000
DTSTAMP:20260425T031005
CREATED:20170515T203405Z
LAST-MODIFIED:20170515T203405Z
UID:664-1495884600-1495891800@cjcbradio.com
SUMMARY:Spring Tea and Sale
DESCRIPTION:Spring Tea & Sale sponsored by Louisbourg-Ceilidh Chapter IODE will be held at Salvation Army Hall\, 55 Inglis St\, Sydney on Saturday\, May27th from 11: 30 – 1:30pm. Tickets available from members or at door.  Home cooking\, books & novelties also for sale. \n
URL:https://cjcbradio.com/event/spring-tea-and-sale/
END:VEVENT
BEGIN:VEVENT
DTSTART;TZID=UTC+0:20170527T190000
DTEND;TZID=UTC+0:20170527T220000
DTSTAMP:20260425T031005
CREATED:20170505T171117Z
LAST-MODIFIED:20170505T171117Z
UID:629-1495911600-1495922400@cjcbradio.com
SUMMARY:Hymn Sing - An Inspirational Showcase
DESCRIPTION:Hymn Sing – An Inspirational Showcase on Saturday\, May 27th\, 2017\, 7 PM at Sydney River United Protestant Church\, 1524 Kings Road\, Sydney.  Ticket $25\, Seniors & Students: $20.  Tickets available at the door or by calling: 902-202-2155. \n
URL:https://cjcbradio.com/event/hymn-sing-an-inspirational-showcase/
END:VEVENT
END:VCALENDAR