BEGIN:VCALENDAR
VERSION:2.0
PRODID:-//CJCB - ECPv4.6.26//NONSGML v1.0//EN
CALSCALE:GREGORIAN
METHOD:PUBLISH
X-WR-CALNAME:CJCB
X-ORIGINAL-URL:https://cjcbradio.com
X-WR-CALDESC:Events for CJCB
BEGIN:VEVENT
DTSTART;TZID=UTC+0:20170528T123000
DTEND;TZID=UTC+0:20170528T150000
DTSTAMP:20260425T014911
CREATED:20170516T204011Z
LAST-MODIFIED:20170516T204011Z
UID:668-1495974600-1495983600@cjcbradio.com
SUMMARY:Walk for Dog Guides
DESCRIPTION:Walk for Dog Guides on Sunday\, May 28th at Wentworth Park Sydney.  Registration 1230 pm\, Walk at 1 PM.  Walk will support 6 programs as follows:  Canine Vision Dog Guides\, Hearing Ear Dog Guides\, Service Dog Guides\, Seizure Response Dog Guides\, Autism Assistance Dog Guides and Diabetic Alert Dog Guides. \nFor more information for donation forms\, please call 1-800-768-3030 \n
URL:https://cjcbradio.com/event/walk-for-dog-guides/
END:VEVENT
BEGIN:VEVENT
DTSTART;TZID=UTC+0:20170528T133000
DTEND;TZID=UTC+0:20170528T150000
DTSTAMP:20260425T014911
CREATED:20170517T155802Z
LAST-MODIFIED:20170517T155802Z
UID:682-1495978200-1495983600@cjcbradio.com
SUMMARY:Blessing of the Fleet
DESCRIPTION:Come take part in our annual Blessing Of The Fleet event on May 28th in Alder Point. Parade of antique cars will leave the church and proceed to the beach at 1:30\, followed by local entertainment\, activities\, and food and treats to buy. Blessing of the boats will take place at 2:00. Hope you can join us!!! \n
URL:https://cjcbradio.com/event/blessing-of-the-fleet/
END:VEVENT
END:VCALENDAR