BEGIN:VCALENDAR
VERSION:2.0
PRODID:-//CJCB - ECPv4.6.26//NONSGML v1.0//EN
CALSCALE:GREGORIAN
METHOD:PUBLISH
X-WR-CALNAME:CJCB
X-ORIGINAL-URL:https://cjcbradio.com
X-WR-CALDESC:Events for CJCB
BEGIN:VEVENT
DTSTART;TZID=UTC+0:20170608T140000
DTEND;TZID=UTC+0:20170608T160000
DTSTAMP:20260424T055704
CREATED:20170524T205840Z
LAST-MODIFIED:20170524T205840Z
UID:709-1496930400-1496937600@cjcbradio.com
SUMMARY:CB Chapter Ostomy Society Meeting
DESCRIPTION:The Cape Breton Chapter of the Ostomy Canada Society will meet on Thursday June 8th\,2017 from 2pm – 4pm at the CB Regional Hospital\, Sydney\, Room 3612. Guest Speaker: Kevin Arenburg\, Hollister Rep. This is a support group for ostomates and their support/caregivers. New ostomates are welcome. \nA light lunch will be served. \nFor more information contact : Verna Petrie – 862-8540 \n
URL:https://cjcbradio.com/event/cb-chapter-ostomy-society-meeting/
END:VEVENT
BEGIN:VEVENT
DTSTART;TZID=UTC+0:20170608T183000
DTEND;TZID=UTC+0:20170608T200000
DTSTAMP:20260424T055704
CREATED:20170315T152144Z
LAST-MODIFIED:20170315T152144Z
UID:358-1496946600-1496952000@cjcbradio.com
SUMMARY:GriefShare Support Group
DESCRIPTION:Griefshare\, a special help seminar and support group for people experiencing grief and loss\, will be held on Thursday evenings at 6:30 PM for 13 weeks in St. Mary’s Anglican Church\, 8 Marconi St\, Glace Bay beginning March 30th. \nGriefShare features experts on grief and recovery topics.  Seminar sessions include: “The Journey of Grief” “The Effects of Grief” “When Your Spouse Dies\,” “Why?” and “Stuck in Grief” \nFor more information\, call 849-4747 \n
URL:https://cjcbradio.com/event/griefshare-support-group-11/
END:VEVENT
END:VCALENDAR