BEGIN:VCALENDAR
VERSION:2.0
PRODID:-//CJCB - ECPv4.6.26//NONSGML v1.0//EN
CALSCALE:GREGORIAN
METHOD:PUBLISH
X-WR-CALNAME:CJCB
X-ORIGINAL-URL:https://cjcbradio.com
X-WR-CALDESC:Events for CJCB
BEGIN:VEVENT
DTSTART;TZID=UTC+0:20170609T193000
DTEND;TZID=UTC+0:20170609T220000
DTSTAMP:20260424T042333
CREATED:20170511T201748Z
LAST-MODIFIED:20170511T201748Z
UID:652-1497036600-1497045600@cjcbradio.com
SUMMARY:The Four Men Concert Fundraiser
DESCRIPTION:THE FOUR MEN \nSongs of Love\, Hope and  Inspiration \nat United Protestant Church of Sydney River \n1524 Kings Road\, Sydney River \nPhone: 902-564-4145 \nTickets: General Admission: $20.00 / Youth (7-18)-$10.00 \nProceeds go to the Roof Fund of United Protestant Church and the Mission and Service Fund of United Church of Canada \n
URL:https://cjcbradio.com/event/the-four-men-concert-fundraiser/
END:VEVENT
END:VCALENDAR