BEGIN:VCALENDAR
VERSION:2.0
PRODID:-//CJCB - ECPv4.6.26//NONSGML v1.0//EN
CALSCALE:GREGORIAN
METHOD:PUBLISH
X-WR-CALNAME:CJCB
X-ORIGINAL-URL:https://cjcbradio.com
X-WR-CALDESC:Events for CJCB
BEGIN:VEVENT
DTSTART;TZID=UTC+0:20170610T080000
DTEND;TZID=UTC+0:20170610T110000
DTSTAMP:20260424T031350
CREATED:20170530T194939Z
LAST-MODIFIED:20170530T194939Z
UID:729-1497081600-1497092400@cjcbradio.com
SUMMARY:Pancake and Sausage Breakfast
DESCRIPTION:Glace Bay Food Bank Society Pancake and Sausage Breakfast \nSaturday\, June 10th from 8 AM – 11 AM. \nGlace Bay Food Bank\, 2 Hector Street\, Glace Bay \nAdmission: $6 per ticket \nContact Glace Bay Food Bank for more information 902-849-0750 \n
URL:https://cjcbradio.com/event/pancake-and-sausage-breakfast-2/
END:VEVENT
BEGIN:VEVENT
DTSTART;TZID=UTC+0:20170610T083000
DTEND;TZID=UTC+0:20170610T120000
DTSTAMP:20260424T031350
CREATED:20170605T165432Z
LAST-MODIFIED:20170606T164931Z
UID:751-1497083400-1497096000@cjcbradio.com
SUMMARY:Louisbourg-Ceilidh IODE Yard Sale
DESCRIPTION:Louisbourg-Ceilidh Chapter IODE will have a indoor yard sale at Y’s Men’s Center\, 54 Riverdale Dr\,  Westmount on Saturday\,  June 10th from 8:30 – noon.  Something for everyone. Lots of bargains \n
URL:https://cjcbradio.com/event/louisbourg-ceilidh-iode-yard-sale/
END:VEVENT
BEGIN:VEVENT
DTSTART;TZID=UTC+0:20170610T173000
DTEND;TZID=UTC+0:20170610T190000
DTSTAMP:20260424T031350
CREATED:20170518T160034Z
LAST-MODIFIED:20170518T160034Z
UID:691-1497115800-1497121200@cjcbradio.com
SUMMARY:Ham and Salad Supper
DESCRIPTION:Our Lady of Fatima Parish Annual Ham and Salad Supper June 10\, 2017 at 5:30 pm. Eat-in or take-out available. Tickets available at parish office or Call Frank @ 902-562-2957 or Allan at 902-564-5788 before June 4\, 2017. \n
URL:https://cjcbradio.com/event/ham-and-salad-supper/
END:VEVENT
BEGIN:VEVENT
DTSTART;TZID=UTC+0:20170610T210000
DTEND;TZID=UTC+0:20170610T210000
DTSTAMP:20260424T031350
CREATED:20170524T205705Z
LAST-MODIFIED:20170524T205705Z
UID:707-1497128400-1497128400@cjcbradio.com
SUMMARY:United Way 3rd Annual Bubble Soccer Tournament
DESCRIPTION:United Way Cape Breton is hosting its 3rd Annual Bubble Soccer tournament Saturday\, June 10th at the CBU basketball Court. For more information or to register a team\, please visit: www.unitedwaycapebreton.com or email Erin- erin@unitedwaycapebreton.com \n
URL:https://cjcbradio.com/event/united-way-3rd-annual-bubble-soccer-tournament/
END:VEVENT
END:VCALENDAR