BEGIN:VCALENDAR
VERSION:2.0
PRODID:-//CJCB - ECPv4.6.26//NONSGML v1.0//EN
CALSCALE:GREGORIAN
METHOD:PUBLISH
X-WR-CALNAME:CJCB
X-ORIGINAL-URL:https://cjcbradio.com
X-WR-CALDESC:Events for CJCB
BEGIN:VEVENT
DTSTART;TZID=UTC+0:20170611T120000
DTEND;TZID=UTC+0:20170611T140000
DTSTAMP:20260424T014908
CREATED:20170530T214012Z
LAST-MODIFIED:20170530T214012Z
UID:733-1497182400-1497189600@cjcbradio.com
SUMMARY:Spring Luncheon
DESCRIPTION:The Boularderie Mammowarriors invite you to their Spring Luncheon! When: Sunday June 11\, noon to 2 pm Where: Boularderie School Choice of Ham Salad or Lentil Salad plate Rolls\, dessert\, and tea/coffee $9 at the door Bake table\, draws\, and fun! All for the Cape Breton Cancer Patient Care Fund! \n
URL:https://cjcbradio.com/event/spring-luncheon/
END:VEVENT
BEGIN:VEVENT
DTSTART;TZID=UTC+0:20170611T190000
DTEND;TZID=UTC+0:20170611T220000
DTSTAMP:20260424T014908
CREATED:20170607T160029Z
LAST-MODIFIED:20170607T160029Z
UID:767-1497207600-1497218400@cjcbradio.com
SUMMARY:Summer Hymn Sing
DESCRIPTION:Bethel Presbyterian Church Choir is having their Summer Hymn Sing with special music by the Korean families from St. Paul’s Church\, Glace Bay on Sunday\, June 11\, 2017 at 7 p.m. at Bethel Church\, George Street\, Sydney \n
URL:https://cjcbradio.com/event/summer-hymn-sing/
END:VEVENT
END:VCALENDAR