BEGIN:VCALENDAR
VERSION:2.0
PRODID:-//CJCB - ECPv4.6.26//NONSGML v1.0//EN
CALSCALE:GREGORIAN
METHOD:PUBLISH
X-WR-CALNAME:CJCB
X-ORIGINAL-URL:https://cjcbradio.com
X-WR-CALDESC:Events for CJCB
BEGIN:VEVENT
DTSTART;TZID=UTC+0:20170616T110000
DTEND;TZID=UTC+0:20170616T180000
DTSTAMP:20260423T175320
CREATED:20170523T213858Z
LAST-MODIFIED:20170523T214457Z
UID:699-1497610800-1497636000@cjcbradio.com
SUMMARY:Ham and Salad Supper
DESCRIPTION:Ham and Salad Supper at St. Paul’s Presbyterian Church\, Brookside Street\, Glace Bay \nFriday\, June 16\, 2017\, Eat in 4 PM – 6 PM\, Take Out 11 AM – 1 PM & 4 PM – 6 PM \nTickets:  $11.  For tickets phone 902-737-2529 \n
URL:https://cjcbradio.com/event/ham-and-salad-supper-2/
END:VEVENT
END:VCALENDAR