BEGIN:VCALENDAR
VERSION:2.0
PRODID:-//CJCB - ECPv4.6.26//NONSGML v1.0//EN
CALSCALE:GREGORIAN
METHOD:PUBLISH
X-WR-CALNAME:CJCB
X-ORIGINAL-URL:https://cjcbradio.com
X-WR-CALDESC:Events for CJCB
BEGIN:VEVENT
DTSTART;TZID=UTC+0:20170620T190000
DTEND;TZID=UTC+0:20170620T210000
DTSTAMP:20260423T114256
CREATED:20170614T155518Z
LAST-MODIFIED:20170614T155518Z
UID:802-1497985200-1497992400@cjcbradio.com
SUMMARY:Town Hall Meeting
DESCRIPTION:A TOWN THAT CARES\, will be holding its next TOWN HALL MEETING at the GLACE BAY FIRE HALL\,on June 20 at 7 pm.  Discussing the drug and mental health problems we have in our communties. AND  Also the need for a MAJOR TREATMENT FACILITY that is needed in CAPE BRETON \n
URL:https://cjcbradio.com/event/town-hall-meeting/
END:VEVENT
END:VCALENDAR