BEGIN:VCALENDAR
VERSION:2.0
PRODID:-//CJCB - ECPv4.6.26//NONSGML v1.0//EN
CALSCALE:GREGORIAN
METHOD:PUBLISH
X-WR-CALNAME:CJCB
X-ORIGINAL-URL:https://cjcbradio.com
X-WR-CALDESC:Events for CJCB
BEGIN:VEVENT
DTSTART;TZID=UTC+0:20170621T123000
DTEND;TZID=UTC+0:20170621T123000
DTSTAMP:20260423T101450
CREATED:20170605T165523Z
LAST-MODIFIED:20170605T165523Z
UID:753-1498048200-1498048200@cjcbradio.com
SUMMARY:Living with Cancer Support Group
DESCRIPTION:Living With Cancer Support Group\, a support group for those who have had a diagnosis of cancer\, for their family\, caregivers will meet Wednesday\, June 21st\, 2017\, 12:30 pm – 2:30 pm at Royal Canadian Legion\, Branch 128 (Pier)\, Victoria Road. Guest Speaker :  Brenda Baxendale\, Occupational Therapist\, Cape Breton Regional Hospital \nPOT LUCK LUNCH AT 12:30PM \n
URL:https://cjcbradio.com/event/living-with-cancer-support-group-3/
END:VEVENT
END:VCALENDAR