BEGIN:VCALENDAR
VERSION:2.0
PRODID:-//CJCB - ECPv4.6.26//NONSGML v1.0//EN
CALSCALE:GREGORIAN
METHOD:PUBLISH
X-WR-CALNAME:CJCB
X-ORIGINAL-URL:https://cjcbradio.com
X-WR-CALDESC:Events for CJCB
BEGIN:VEVENT
DTSTART;TZID=UTC+0:20170624T080000
DTEND;TZID=UTC+0:20170624T110000
DTSTAMP:20260423T060231
CREATED:20170619T201902Z
LAST-MODIFIED:20170619T201902Z
UID:825-1498291200-1498302000@cjcbradio.com
SUMMARY:Country Breakfast
DESCRIPTION:Country Breakfast at Knox Presbyterian Church\, Ross Ferry June 24\, 2017 8-11 a.m. Adult – $8 Child – $4 Scrambled Eggs\, Pancakes\, Sausages\, Beans\, Fruit\, Toast\, Juice\, Tea and Coffee Directions: Exit 13 off Hwy 105\, 12km down Kempt Head Road 10109 Kempt Head Road\, Ross Ferry \n
URL:https://cjcbradio.com/event/country-breakfast/
END:VEVENT
BEGIN:VEVENT
DTSTART;TZID=UTC+0:20170624T080000
DTEND;TZID=UTC+0:20170625T170000
DTSTAMP:20260423T060231
CREATED:20170621T165425Z
LAST-MODIFIED:20170621T165425Z
UID:832-1498291200-1498410000@cjcbradio.com
SUMMARY:Cape Breton Drag Racing
DESCRIPTION:Cape Breton Drag Racing 1/8 Mile Racing 2017 at Victoria Junction off Sydney-Glace Bay Highway.  Race Dates:  June 24 & 25\, July 21\, 22 & 23\, Aug 12 Sport compact\, Aug 25\, 26 & 27 and Sept 16 & 17.  Gates Open 8 AM. \nSaturday Pass $10\, Sunday Pass $15\, Weekend Pass $20.  Family Weekend Pass $40 (2 adults and 2 under 14)\, 8 and under free when with Adult \n
URL:https://cjcbradio.com/event/cape-breton-drag-racing/
END:VEVENT
END:VCALENDAR