BEGIN:VCALENDAR
VERSION:2.0
PRODID:-//CJCB - ECPv4.6.26//NONSGML v1.0//EN
CALSCALE:GREGORIAN
METHOD:PUBLISH
X-WR-CALNAME:CJCB
X-ORIGINAL-URL:https://cjcbradio.com
X-WR-CALDESC:Events for CJCB
BEGIN:VEVENT
DTSTART;TZID=UTC+0:20170627T140000
DTEND;TZID=UTC+0:20170702T210000
DTSTAMP:20260422T221744
CREATED:20170619T201705Z
LAST-MODIFIED:20170619T201705Z
UID:821-1498572000-1499029200@cjcbradio.com
SUMMARY:The Great Benjamin Circus
DESCRIPTION:Great Benjamin Circus bigger and better …  Glace Bay June 27\, 28.. New Waterford June 29th\, Sydney July 30\, 1 and 2nd  ..  high wires\, clowns\, wheel of destiny the human cannonball and much much more… save with advanced tickets at http://www.benjaminscircus.com/ \n
URL:https://cjcbradio.com/event/the-great-benjamin-circus/
END:VEVENT
END:VCALENDAR