BEGIN:VCALENDAR
VERSION:2.0
PRODID:-//CJCB - ECPv4.6.26//NONSGML v1.0//EN
CALSCALE:GREGORIAN
METHOD:PUBLISH
X-WR-CALNAME:CJCB
X-ORIGINAL-URL:https://cjcbradio.com
X-WR-CALDESC:Events for CJCB
BEGIN:VEVENT
DTSTART;TZID=UTC+0:20170627T140000
DTEND;TZID=UTC+0:20170702T210000
DTSTAMP:20260422T190013
CREATED:20170619T201705Z
LAST-MODIFIED:20170619T201705Z
UID:821-1498572000-1499029200@cjcbradio.com
SUMMARY:The Great Benjamin Circus
DESCRIPTION:Great Benjamin Circus bigger and better …  Glace Bay June 27\, 28.. New Waterford June 29th\, Sydney July 30\, 1 and 2nd  ..  high wires\, clowns\, wheel of destiny the human cannonball and much much more… save with advanced tickets at http://www.benjaminscircus.com/ \n
URL:https://cjcbradio.com/event/the-great-benjamin-circus/
END:VEVENT
BEGIN:VEVENT
DTSTART;VALUE=DATE:20170701
DTEND;VALUE=DATE:20170702
DTSTAMP:20260422T190013
CREATED:20170526T163444Z
LAST-MODIFIED:20170526T163444Z
UID:718-1498867200-1498953599@cjcbradio.com
SUMMARY:Canada Day Breakfast in the Park
DESCRIPTION: \n
URL:https://cjcbradio.com/event/canada-day-breakfast-in-the-park/
END:VEVENT
BEGIN:VEVENT
DTSTART;TZID=UTC+0:20170701T080000
DTEND;TZID=UTC+0:20170701T230000
DTSTAMP:20260422T190013
CREATED:20170614T155428Z
LAST-MODIFIED:20170614T155428Z
UID:800-1498896000-1498950000@cjcbradio.com
SUMMARY:Canada Day Celebrations
DESCRIPTION:Mira Seniors’ and Pensioners’ Marion Bridge are hosting a Canada Day Celebration on Saturday\, July 1st with a Country Breakfast from 8 AM – 11 PM.  Price $10\, Children under 12 $5.  Bake Table\, Flea Market Tables available $7 each(call Earl at 902-727-2039 to reserve). From 4 PM on\, Beef on a Bun $4.00\, Fried $2.00\, Tea\, Coffee\, Soft Drinks and water also available for $1.00. \nAll Day\, Tickets available on Goody Basket and Event Split! \n
URL:https://cjcbradio.com/event/canada-day-celebrations/
END:VEVENT
BEGIN:VEVENT
DTSTART;TZID=UTC+0:20170701T140000
DTEND;TZID=UTC+0:20170701T170000
DTSTAMP:20260422T190013
CREATED:20170619T201803Z
LAST-MODIFIED:20170619T201803Z
UID:823-1498917600-1498928400@cjcbradio.com
SUMMARY:Canada Day Lasagna Dinner
DESCRIPTION:Canada Day at the Italian Hall Dominion ..A lasagna dinner $15.00 includes salad garlic bread dessert tea or coffee ..it to raise funds for our All years MacDonald High Reunion on July 29th 2017 @Dominion Rink its a nonprofit any money raised will go back to the community ..for both tickets contact Laurie Poirier at 902-849-5200 \n
URL:https://cjcbradio.com/event/canada-day-lasagna-dinner/
END:VEVENT
END:VCALENDAR