BEGIN:VCALENDAR
VERSION:2.0
PRODID:-//CJCB - ECPv4.6.26//NONSGML v1.0//EN
CALSCALE:GREGORIAN
METHOD:PUBLISH
X-WR-CALNAME:CJCB
X-ORIGINAL-URL:https://cjcbradio.com
X-WR-CALDESC:Events for CJCB
BEGIN:VEVENT
DTSTART;TZID=America/Halifax:20190310T130000
DTEND;TZID=America/Halifax:20190310T160000
DTSTAMP:20260420T071354
CREATED:20190221T190033Z
LAST-MODIFIED:20190221T190033Z
UID:5197-1552222800-1552233600@cjcbradio.com
SUMMARY:Snowshoe Hike
DESCRIPTION:Hector’s Point Snowshoe Hike: Mar. 10\nHike Nova Scotia\, the Highland Village Museum\, Jill’s Chocolates and the Iona Heights Inn present a guided snowshoe hike at Hector’s Point in Iona on March 10 at 1 pm. Cost is $10 with your own snowshoes (or reserve rentals). You must pre-register at www.ionaheightsinn.com/event. Qualify to win a trail prize. See www.hikenovascotia.ca for details. \n
URL:https://cjcbradio.com/event/snowshoe-hike-5/
END:VEVENT
END:VCALENDAR