BEGIN:VCALENDAR
VERSION:2.0
PRODID:-//CJCB - ECPv4.6.26//NONSGML v1.0//EN
CALSCALE:GREGORIAN
METHOD:PUBLISH
X-WR-CALNAME:CJCB
X-ORIGINAL-URL:https://cjcbradio.com
X-WR-CALDESC:Events for CJCB
BEGIN:VEVENT
DTSTART;TZID=America/Halifax:20190314T140000
DTEND;TZID=America/Halifax:20190314T160000
DTSTAMP:20260420T012245
CREATED:20190301T125630Z
LAST-MODIFIED:20190301T125630Z
UID:5227-1552572000-1552579200@cjcbradio.com
SUMMARY:Ostomy Support Group
DESCRIPTION:The Cape Breton Ostomy support group will meet on Thursday\, March 14th at 2pm – 4 pm at the South Bar Fire Hall\, South Bar. This group are for those who have an ostomy\, will be having an ostomy and their support person. For more information\, contact Stasia at 902-562-1367 \n
URL:https://cjcbradio.com/event/ostomy-support-group/
END:VEVENT
END:VCALENDAR