BEGIN:VCALENDAR
VERSION:2.0
PRODID:-//CJCB - ECPv4.6.26//NONSGML v1.0//EN
CALSCALE:GREGORIAN
METHOD:PUBLISH
X-WR-CALNAME:CJCB
X-ORIGINAL-URL:https://cjcbradio.com
X-WR-CALDESC:Events for CJCB
BEGIN:VEVENT
DTSTART;TZID=America/Halifax:20190316T190000
DTEND;TZID=America/Halifax:20190316T220000
DTSTAMP:20260419T223049
CREATED:20190221T190359Z
LAST-MODIFIED:20190221T190359Z
UID:5205-1552762800-1552773600@cjcbradio.com
SUMMARY:Square Dance
DESCRIPTION:Family Squaredance with Dawn Beaton and Joel Chaisson\nMarch 16 from 7:00 PM – 10:00 PM\nAdmission at the door: Adults $10.00\, Youth 19& under $5.00\, Families (2 adults & up to 5 children) $25.00\nMarion Bridge Community Hall\, 3921 Gabarus Hwy\, Marion Bridge \n
URL:https://cjcbradio.com/event/square-dance-2/
END:VEVENT
BEGIN:VEVENT
DTSTART;TZID=America/Halifax:20190316T194000
DTEND;TZID=America/Halifax:20190316T204000
DTSTAMP:20260419T223049
CREATED:20190306T145943Z
LAST-MODIFIED:20190306T145943Z
UID:5236-1552765200-1552768800@cjcbradio.com
SUMMARY:Free Skate
DESCRIPTION:Free family skating on Saturday March 16th\, 2019 from 7:40 pm – 8:40 pm\, at the New Waterford and District Community Centre\, in conjunction with Breton Education Centres Youth Advisory group and East Cape Breton Community Health Board. Hoping for an hour of fun and physical activity and please bring a helmet! It should be a great Kick off to March Break and we are hoping to fill the Rink! \n
URL:https://cjcbradio.com/event/free-skate-2/
END:VEVENT
BEGIN:VEVENT
DTSTART;TZID=America/Halifax:20190316T203000
DTEND;TZID=America/Halifax:20190316T235000
DTSTAMP:20260419T223049
CREATED:20190305T200057Z
LAST-MODIFIED:20190305T200057Z
UID:5234-1552768200-1552780200@cjcbradio.com
SUMMARY:St. Patrick's Dance
DESCRIPTION:St. Patrick’s Dance\, Sat. March 16\, Frenchvale Senior’s Club\, 3099 Frenchvale Road in Frenchvale. $10.00 per person (price includes Beef Stew and Tea Biscuits). Music by Pam and Tim. 8:30 – midnight. Call (902)794-2940 for more information. \n
URL:https://cjcbradio.com/event/st-patricks-dance/
END:VEVENT
END:VCALENDAR