BEGIN:VCALENDAR
VERSION:2.0
PRODID:-//CJCB - ECPv4.6.26//NONSGML v1.0//EN
CALSCALE:GREGORIAN
METHOD:PUBLISH
X-WR-CALNAME:CJCB
X-ORIGINAL-URL:https://cjcbradio.com
X-WR-CALDESC:Events for CJCB
BEGIN:VEVENT
DTSTART;TZID=America/Halifax:20190321T140000
DTEND;TZID=America/Halifax:20190321T160000
DTSTAMP:20260419T143159
CREATED:20190221T190306Z
LAST-MODIFIED:20190221T190306Z
UID:5203-1553176800-1553184000@cjcbradio.com
SUMMARY:CBRM Taste of Winter Seniors Social
DESCRIPTION:CBRM – Taste of Winter – Seniors Social\nSeniors Socials are a great way to be social this winter!\nEnjoy a game\, a light lunch\, and great music from the Cape Breton Ukulele Strummers. Bring your friends or meet new ones!\nMarch 21 from 2:00 PM – 4:00 PM\, Marion Bridge Community Hall \n
URL:https://cjcbradio.com/event/cbrm-taste-of-winter-seniors-social/
END:VEVENT
END:VCALENDAR