BEGIN:VCALENDAR
VERSION:2.0
PRODID:-//CJCB - ECPv4.6.26//NONSGML v1.0//EN
CALSCALE:GREGORIAN
METHOD:PUBLISH
X-WR-CALNAME:CJCB
X-ORIGINAL-URL:https://cjcbradio.com
X-WR-CALDESC:Events for CJCB
BEGIN:VEVENT
DTSTART;VALUE=DATE:20210626
DTEND;VALUE=DATE:20210628
DTSTAMP:20260419T235103
CREATED:20210611T173948Z
LAST-MODIFIED:20210611T173948Z
UID:7708-1624665600-1624838399@cjcbradio.com
SUMMARY:Field Leader Hiking Course West Mabou\, June 26-27
DESCRIPTION:Field Leader – Hiking Course West Mabou\, June 26-27 \nA Field Leader – Hiking Course will be offered on June 26 and 27 in West Mabou. Participants receive Outdoor Council of Canada national certification. Learn more at www.hikenovascotia.ca. \nFor more information on this event or Hike Nova Scotia contact (not for publication):\nJanet Barlow\, Hike Nova Scotia\n(902) 932-6902\ninfo@hikenovascotia.ca \n
URL:https://cjcbradio.com/event/field-leader-hiking-course-west-mabou-june-26-27/
CATEGORIES:Community
END:VEVENT
END:VCALENDAR