BEGIN:VCALENDAR
VERSION:2.0
PRODID:-//CJCB - ECPv4.6.26//NONSGML v1.0//EN
CALSCALE:GREGORIAN
METHOD:PUBLISH
X-WR-CALNAME:CJCB
X-ORIGINAL-URL:https://cjcbradio.com
X-WR-CALDESC:Events for CJCB
BEGIN:VEVENT
DTSTART;VALUE=DATE:20220110
DTEND;VALUE=DATE:20220201
DTSTAMP:20260419T150440
CREATED:20220110T175719Z
LAST-MODIFIED:20220110T175719Z
UID:8441-1641772800-1643673599@cjcbradio.com
SUMMARY:Join a walk group in Florence!
DESCRIPTION:Hike Nova Scotia introduces gentle\, easy walking groups through their NS Walks initiative. There are walking groups starting in Florence. Sign-up at www.nswalks.ca or cjcurrie@cbrm.ns.ca \n
URL:https://cjcbradio.com/event/join-a-walk-group-in-florence/
CATEGORIES:Community Events
END:VEVENT
END:VCALENDAR