BEGIN:VCALENDAR
VERSION:2.0
PRODID:-//CJCB - ECPv4.6.26//NONSGML v1.0//EN
CALSCALE:GREGORIAN
METHOD:PUBLISH
X-WR-CALNAME:CJCB
X-ORIGINAL-URL:https://cjcbradio.com
X-WR-CALDESC:Events for CJCB
BEGIN:VEVENT
DTSTART;TZID=America/Halifax:20260420T153000
DTEND;TZID=America/Halifax:20260420T193000
DTSTAMP:20260420T200932
CREATED:20260114T160800Z
LAST-MODIFIED:20260114T160800Z
UID:10680-1776699000-1776713400@cjcbradio.com
SUMMARY:DnD Monday
DESCRIPTION:Glace Bay Library \nEvery Monday 3:30-7:30 \n
URL:https://cjcbradio.com/event/dnd-monday-5/2026-04-20/
END:VEVENT
BEGIN:VEVENT
DTSTART;TZID=America/Halifax:20260422T180000
DTEND;TZID=America/Halifax:20260422T190000
DTSTAMP:20260420T200932
CREATED:20260325T141059Z
LAST-MODIFIED:20260325T141059Z
UID:10658-1776880800-1776884400@cjcbradio.com
SUMMARY:April Art Night – Rock Painting
DESCRIPTION:Glace Bay Library\nWed. April 22\n6 – 7pm\nRock on with rock painting. Registration required. 902-849-8657 or glacebay@cbrl.ca \n
URL:https://cjcbradio.com/event/april-art-night-rock-painting/
END:VEVENT
BEGIN:VEVENT
DTSTART;TZID=America/Halifax:20260424T133000
DTEND;TZID=America/Halifax:20260424T153000
DTSTAMP:20260420T200932
CREATED:20260114T161550Z
LAST-MODIFIED:20260114T161550Z
UID:10672-1777037400-1777044600@cjcbradio.com
SUMMARY:Knitting Club
DESCRIPTION:Glace Bay Library \nEvery Friday 1:30-3:30 \n  \n
URL:https://cjcbradio.com/event/knitting-club-27/2026-04-24/
END:VEVENT
BEGIN:VEVENT
DTSTART;TZID=America/Halifax:20260425T140000
DTEND;TZID=America/Halifax:20260425T160000
DTSTAMP:20260420T200932
CREATED:20260114T161152Z
LAST-MODIFIED:20260114T161152Z
UID:10676-1777125600-1777132800@cjcbradio.com
SUMMARY:Jr. DnD
DESCRIPTION:Glace Bay Library \nEvery Saturday 2 – 4pm \n  \n
URL:https://cjcbradio.com/event/jr-dnd-4/2026-04-25/
END:VEVENT
BEGIN:VEVENT
DTSTART;VALUE=DATE:20260428
DTEND;VALUE=DATE:20260429
DTSTAMP:20260420T200932
CREATED:20260325T142532Z
LAST-MODIFIED:20260325T142532Z
UID:10664-1777334400-1777420799@cjcbradio.com
SUMMARY:Brookshaven Hall AGM
DESCRIPTION:Our AGM will be held Tuesday April 28th at 7pm.\nBrookshaven hall\n1748 Alexandra st Prime Brook \nWe encourage the community to come out & support the hall & learn about all the progress we have made & what’s to come! \nMembership dues are $5 & can be paid the day of meeting by cash or before hand by e-transfer at: brookshaven@outlook.com in the memo please put member dues! This is for New & Existing Members! \nWe will be looking for New volunteers to join our team! \nAlong with some new directors to join the bored! \n
URL:https://cjcbradio.com/event/brookshaven-hall-agm/
END:VEVENT
BEGIN:VEVENT
DTSTART;TZID=America/Halifax:20260428T150000
DTEND;TZID=America/Halifax:20260428T160000
DTSTAMP:20260420T200932
CREATED:20260325T141554Z
LAST-MODIFIED:20260325T141554Z
UID:10660-1777388400-1777392000@cjcbradio.com
SUMMARY:Sydney Stroke Peer Support Group
DESCRIPTION:Starting April 28. Meeting the last Tuesday of every month\, 3-4pm \nLocation: Southend Community Centre (in the Gymnasium)\, 1464 George Street\, Sydney \nOur Stroke Community Conversations group provides support\, understanding\, and encouragement for any individual impacted by stroke at any age. Through regular meetings\, we offer a safe space to share experiences\, discuss challenges\, and celebrate milestones with others. \n
URL:https://cjcbradio.com/event/sydney-stroke-peer-support-group/
END:VEVENT
BEGIN:VEVENT
DTSTART;TZID=America/Halifax:20260428T180000
DTEND;TZID=America/Halifax:20260428T190000
DTSTAMP:20260420T200932
CREATED:20260420T172708Z
LAST-MODIFIED:20260420T172708Z
UID:10700-1777399200-1777402800@cjcbradio.com
SUMMARY:Wildfires: Being Prepared
DESCRIPTION:April 28th 6:00pm-7:00pm \nMatt Lever from CBRM Emergency Management will share a presentation on Wildfires & Preparedness. \nPersonal Preparedness\nWildfire Risk\nWildfire Prevention\nFireSmart for Your Home\nEmergency Notification & Evacuation \nRegistration is not required. \n
URL:https://cjcbradio.com/event/wildfires-being-prepared-2/
END:VEVENT
BEGIN:VEVENT
DTSTART;TZID=America/Halifax:20260429T180000
DTEND;TZID=America/Halifax:20260429T190000
DTSTAMP:20260420T200932
CREATED:20260325T141201Z
LAST-MODIFIED:20260325T141201Z
UID:10659-1777485600-1777489200@cjcbradio.com
SUMMARY:April Art Night – Dirty Pour
DESCRIPTION:Glace Bay Library\nWed April 29\n6 – 7pm\nGet down and dirty with our Dirty Pour Paint night. Registration required. 902-849-8657 or glacebay@cbrl.ca \n
URL:https://cjcbradio.com/event/april-art-night-dirty-pour/
END:VEVENT
BEGIN:VEVENT
DTSTART;VALUE=DATE:20260502
DTEND;VALUE=DATE:20260503
DTSTAMP:20260420T200932
CREATED:20260420T173255Z
LAST-MODIFIED:20260420T173255Z
UID:10704-1777680000-1777766399@cjcbradio.com
SUMMARY:"Buth-obrach Orain Ghaidhlig" (Gaelic Songs Workshops) & "Celtic Spring Family Concert"
DESCRIPTION:We are sponsoring 4 events for Gaelic Awareness Month\, May 2026 at St. Barra Church & Christmas Island Communities Centre at 47 Church Road\, Christmas Island\, NS. Saturday\, May 2nd: Hannah Krebs teaches local Gaelic songs from 2-4pm. Sunday\, May 3rd: “Celtic Spring Family Concert” featuring Local Talent and starting at 2pm. Saturday\, May 16th: Connall MacKinnon teaches some more local Gaelic songs from 2-4pm. Saturday\, May 30th: Angus MacLeod teaches the old way to compose Gaelic songs from 2-4pm. Coffee\, tea\, & sweets served! Admission by Donation for all events! Sponsored by: The Wardens of the Church of St. Barra Preservation and Development Society & NSGA. Facebook: St. Barra’s Preservation and Development Society. Text: (902) 217-6659. Email: barryjgeorge1@gmail.com \n
URL:https://cjcbradio.com/event/buth-obrach-orain-ghaidhlig-gaelic-songs-workshops-celtic-spring-family-concert/2026-05-02/
END:VEVENT
BEGIN:VEVENT
DTSTART;VALUE=DATE:20260503
DTEND;VALUE=DATE:20260504
DTSTAMP:20260420T200932
CREATED:20260420T150613Z
LAST-MODIFIED:20260420T150613Z
UID:10697-1777766400-1777852799@cjcbradio.com
SUMMARY:In Paradisum
DESCRIPTION:In Paradisum\nCape Breton Chorale Spring Concert \nEmma Francis\, Conductor\nPaula Jane Francis\, Organ/Piano \nJoin the Cape Breton Chorale for an afternoon of music featuring Gabriel Faure’s Requiem and Canadian Folk Songs. \nWhen: Sunday\, May 3\, 2026\, 3:00pm\nWhere: St. Andrews Presbyterian\, corner of Main St and Queen St\, Sydney Mines\nTickets: $30 general admission\nOrder by calling 902-270-2591 or buy online at capebretonchorale.com \n
URL:https://cjcbradio.com/event/in-paradisum/
END:VEVENT
BEGIN:VEVENT
DTSTART;TZID=America/Halifax:20260503T160000
DTEND;TZID=America/Halifax:20260503T180000
DTSTAMP:20260420T200932
CREATED:20260325T142611Z
LAST-MODIFIED:20260325T142611Z
UID:10665-1777824000-1777831200@cjcbradio.com
SUMMARY:Senior social
DESCRIPTION:May 3rd 4pm-6pm\nJoin us for a yummy bowl of turkey soup\nDinner roll & Dessert tea or coffee\n$10\nEat in only !\nPre-order Only!\nAlicia 902-317-0504\n1748 Alexandra st prime brook\nBrookshaven hall \n
URL:https://cjcbradio.com/event/senior-social-2/
END:VEVENT
BEGIN:VEVENT
DTSTART;TZID=America/Halifax:20260506T180000
DTEND;TZID=America/Halifax:20260506T190000
DTSTAMP:20260420T200932
CREATED:20260420T175204Z
LAST-MODIFIED:20260420T175204Z
UID:10708-1778090400-1778094000@cjcbradio.com
SUMMARY:Butterfly Magnets
DESCRIPTION:Glace Bay Library \nWed May 6     6-7pm. \nMake some Spring butterfly magnets. Registration Required\, email glacebay@cbrl.ca or phone 902-849-8657 \n  \n
URL:https://cjcbradio.com/event/butterfly-magnets/
END:VEVENT
BEGIN:VEVENT
DTSTART;VALUE=DATE:20260507
DTEND;VALUE=DATE:20260508
DTSTAMP:20260420T200932
CREATED:20260420T175240Z
LAST-MODIFIED:20260420T175240Z
UID:10709-1778112000-1778198399@cjcbradio.com
SUMMARY:Crafty Corner: Mother’s Day Card
DESCRIPTION:Glace Bay Library \nThurs May 7    3:30pm \nCome make a Mother’s Day Card \n  \n
URL:https://cjcbradio.com/event/crafty-corner-mothers-day-card/
END:VEVENT
BEGIN:VEVENT
DTSTART;VALUE=DATE:20260509
DTEND;VALUE=DATE:20260510
DTSTAMP:20260420T200932
CREATED:20260420T150802Z
LAST-MODIFIED:20260420T150802Z
UID:10698-1778284800-1778371199@cjcbradio.com
SUMMARY:Spaghetti dinner and auction
DESCRIPTION:Ukrainian parish hall is doing a fundraiser for renovations on May 9 th doors open 6 and meal is at 7 tickets are 10$ and be purchased by call 9025490644 \n
URL:https://cjcbradio.com/event/spaghetti-dinner-and-auction-2/
END:VEVENT
BEGIN:VEVENT
DTSTART;TZID=America/Halifax:20260509T100000
DTEND;TZID=America/Halifax:20260509T150000
DTSTAMP:20260420T200932
CREATED:20260420T173019Z
LAST-MODIFIED:20260420T173019Z
UID:10703-1778320800-1778338800@cjcbradio.com
SUMMARY:Munro Crafters Guild Annual Spring Sale
DESCRIPTION:The Munro Crafters Guild Annual Spring Sale will be held this year on May 9 from 10 – 3 at the Big Bras d’Or Community Hall\, 1390 Old Route 5. You can expect to find some beautiful crafts including original folk art\, weaving\, rug hooking\, photography\, home baking and so much more! There is free admission\, with coffee or tea and cookies available at the cafe for $2.00 \n
URL:https://cjcbradio.com/event/munro-crafters-guild-annual-spring-sale/
END:VEVENT
BEGIN:VEVENT
DTSTART;TZID=America/Halifax:20260509T100000
DTEND;TZID=America/Halifax:20260509T110000
DTSTAMP:20260420T200932
CREATED:20260420T175315Z
LAST-MODIFIED:20260420T175315Z
UID:10710-1778320800-1778324400@cjcbradio.com
SUMMARY:Super Saturday: Mothers Day Card
DESCRIPTION:Glace Bay Library \nSat May 9   10-11am \nMake a Hap-Pea Mother’s day card \n  \n
URL:https://cjcbradio.com/event/super-saturday-mothers-day-card-2/
END:VEVENT
BEGIN:VEVENT
DTSTART;TZID=America/Halifax:20260509T110000
DTEND;TZID=America/Halifax:20260509T140000
DTSTAMP:20260420T200932
CREATED:20260420T173551Z
LAST-MODIFIED:20260420T173551Z
UID:10705-1778324400-1778335200@cjcbradio.com
SUMMARY:Eltuek Arts Centre Spring Market
DESCRIPTION:Join us for our Spring Market! Just in time for Mother’s Day \nSaturday\, May 9\n11AM–2PM\nEltuek Arts Centre (Gallery 211) \n20+ local vendors featuring baked goods\, handmade items\, and more! \n
URL:https://cjcbradio.com/event/eltuek-arts-centre-spring-market/
END:VEVENT
BEGIN:VEVENT
DTSTART;TZID=America/Halifax:20260512T140000
DTEND;TZID=America/Halifax:20260512T160000
DTSTAMP:20260420T200932
CREATED:20260420T175422Z
LAST-MODIFIED:20260420T175422Z
UID:10711-1778594400-1778601600@cjcbradio.com
SUMMARY:Nebulas Paint Session
DESCRIPTION:Glace Bay Library \nTues May 12  2 – 4pm \nJoin the local Art Dragons for a nebulas paint session.  Registration Required\, email glacebay@cbrl.ca or phone 902-849-8657 \n  \n
URL:https://cjcbradio.com/event/nebulas-paint-session/
END:VEVENT
BEGIN:VEVENT
DTSTART;TZID=America/Halifax:20260513T180000
DTEND;TZID=America/Halifax:20260513T190000
DTSTAMP:20260420T200932
CREATED:20260420T175635Z
LAST-MODIFIED:20260420T175635Z
UID:10712-1778695200-1778698800@cjcbradio.com
SUMMARY:Tissue Paper Flowers
DESCRIPTION:Glace Bay Library \nWed May 13   6-7pm \nMake some beautiful flowers for Spring. \n  \n
URL:https://cjcbradio.com/event/tissue-paper-flowers/
END:VEVENT
BEGIN:VEVENT
DTSTART;VALUE=DATE:20260514
DTEND;VALUE=DATE:20260515
DTSTAMP:20260420T200932
CREATED:20260420T175734Z
LAST-MODIFIED:20260420T175734Z
UID:10713-1778716800-1778803199@cjcbradio.com
SUMMARY:Crafty Corner: Ladybugs
DESCRIPTION:Glace Bay Library \nThurs May 14  3:30pm \nDrop in to make a ladybug craft \n  \n
URL:https://cjcbradio.com/event/crafty-corner-ladybugs/
END:VEVENT
BEGIN:VEVENT
DTSTART;TZID=America/Halifax:20260516T100000
DTEND;TZID=America/Halifax:20260516T140000
DTSTAMP:20260420T200932
CREATED:20260420T172839Z
LAST-MODIFIED:20260420T172839Z
UID:10702-1778925600-1778940000@cjcbradio.com
SUMMARY:3rd Annual Wentworth Park Fishing Derby
DESCRIPTION:Join in a family fun event at Wentworth Park Saturday May 16th/2026. The fishing derby is for children 15 and under and is organized by Cape Breton Island Wildlife association in Partnership with CBRM\, NS Department of Inland Fisheries\, Nova Scotia Federation of Anglers and Hunters\, Unama ki Institute of Natural Resources and Department of Natural Resources. Prizes awarded for the largest fish. The event runs from 10 Am until 2PM. Registration is at the Byng Ave entrance. \n
URL:https://cjcbradio.com/event/3rd-annual-wentworth-park-fishing-derby/
END:VEVENT
BEGIN:VEVENT
DTSTART;TZID=America/Halifax:20260520T180000
DTEND;TZID=America/Halifax:20260520T190000
DTSTAMP:20260420T200932
CREATED:20260420T180044Z
LAST-MODIFIED:20260420T180044Z
UID:10714-1779300000-1779303600@cjcbradio.com
SUMMARY:Adult Art: Lily Painting
DESCRIPTION:Glace Bay Library \nWed May 20      6-7pm \nJoin us in making some painted Lily art. Registration Required\, phone 902-849-8657 or email glacebay@cbrl.ca \n  \n
URL:https://cjcbradio.com/event/adult-art-lily-painting/
END:VEVENT
BEGIN:VEVENT
DTSTART;VALUE=DATE:20260521
DTEND;VALUE=DATE:20260522
DTSTAMP:20260420T200932
CREATED:20260420T180119Z
LAST-MODIFIED:20260420T180119Z
UID:10715-1779321600-1779407999@cjcbradio.com
SUMMARY:Crafty Corner: Daffodil craft
DESCRIPTION:Glace Bay Library \nThurs May 21   3:30pm \nMake a cute daffodil craft \n
URL:https://cjcbradio.com/event/crafty-corner-daffodil-craft/
END:VEVENT
BEGIN:VEVENT
DTSTART;TZID=America/Halifax:20260523T100000
DTEND;TZID=America/Halifax:20260523T110000
DTSTAMP:20260420T200932
CREATED:20260420T180205Z
LAST-MODIFIED:20260420T180205Z
UID:10716-1779530400-1779534000@cjcbradio.com
SUMMARY:Super Saturday: Build and Play
DESCRIPTION:Glace Bay Library \nSat May 23 10-11am \nDrop in to have fun with our lego and playdoh \n  \n
URL:https://cjcbradio.com/event/super-saturday-build-and-play/
END:VEVENT
BEGIN:VEVENT
DTSTART;TZID=America/Halifax:20260527T180000
DTEND;TZID=America/Halifax:20260527T190000
DTSTAMP:20260420T200932
CREATED:20260420T180724Z
LAST-MODIFIED:20260420T180724Z
UID:10717-1779904800-1779908400@cjcbradio.com
SUMMARY:Bubble Wrap Bees
DESCRIPTION:Glace Bay Library \nWed May 27    6-7pm \nMake a fun bubble wrap bee craft \n  \n
URL:https://cjcbradio.com/event/bubble-wrap-bees/
END:VEVENT
BEGIN:VEVENT
DTSTART;VALUE=DATE:20260528
DTEND;VALUE=DATE:20260529
DTSTAMP:20260420T200932
CREATED:20260420T180752Z
LAST-MODIFIED:20260420T180752Z
UID:10718-1779926400-1780012799@cjcbradio.com
SUMMARY:Crafty Corner: Butterflies
DESCRIPTION:Glace Bay Library \nThurs May 28     3:30pm \nCome make a butterfly craft \n
URL:https://cjcbradio.com/event/crafty-corner-butterflies/
END:VEVENT
BEGIN:VEVENT
DTSTART;VALUE=DATE:20260531
DTEND;VALUE=DATE:20260601
DTSTAMP:20260420T200932
CREATED:20260420T172751Z
LAST-MODIFIED:20260420T172751Z
UID:10701-1780185600-1780271999@cjcbradio.com
SUMMARY:2026 Cape Breton MS Walk
DESCRIPTION:2026 Cape Breton MS Walk is on Sunday May 31st at Emera Centre North Sydney. Registration starts at 1 pm and the Opening Ceremonies kick off at 2 pm with special musical guests Breagh Kelly and the Heritage African Drummers. This is a day for all those living with multiple sclerosis\, their families and community to show support through awareness\, advocacy and education. Come celebrate the power of community at Cape Breton MS Walk! \n
URL:https://cjcbradio.com/event/2026-cape-breton-ms-walk/
END:VEVENT
END:VCALENDAR